BEGIN:VCALENDAR
VERSION:2.0
PRODID:-//Crivencar - ECPv5.7.1//NONSGML v1.0//EN
CALSCALE:GREGORIAN
METHOD:PUBLISH
X-WR-CALNAME:Crivencar
X-ORIGINAL-URL:https://gastronomia.productosdeasturias.com
X-WR-CALDESC:Eventos para Crivencar
BEGIN:VTIMEZONE
TZID:Europe/Madrid
BEGIN:DAYLIGHT
TZOFFSETFROM:+0100
TZOFFSETTO:+0200
TZNAME:CEST
DTSTART:20200329T010000
END:DAYLIGHT
BEGIN:STANDARD
TZOFFSETFROM:+0200
TZOFFSETTO:+0100
TZNAME:CET
DTSTART:20201025T010000
END:STANDARD
END:VTIMEZONE
BEGIN:VEVENT
DTSTART;TZID=Europe/Madrid:20200703T080000
DTEND;TZID=Europe/Madrid:20200705T170000
DTSTAMP:20260423T101536
CREATED:20200128T184101Z
LAST-MODIFIED:20200128T184101Z
UID:2598-1593763200-1593968400@gastronomia.productosdeasturias.com
SUMMARY:Jornadas gastronómicas del bonito
DESCRIPTION:Degustación de bonito de la zona.
URL:https://gastronomia.productosdeasturias.com/evento/jornadas-gastronomicas-del-bonito/
LOCATION:Tapia de Casariego\, Tapia de Casariego\, Asturias\, España
END:VEVENT
END:VCALENDAR